BEGIN:VCALENDAR
VERSION:2.0
PRODID:-//Servon - ECPv6.15.20//NONSGML v1.0//EN
CALSCALE:GREGORIAN
METHOD:PUBLISH
X-WR-CALNAME:Servon
X-ORIGINAL-URL:https://www.servon.fr
X-WR-CALDESC:Évènements pour Servon
REFRESH-INTERVAL;VALUE=DURATION:PT1H
X-Robots-Tag:noindex
X-PUBLISHED-TTL:PT1H
BEGIN:VTIMEZONE
TZID:Europe/Paris
BEGIN:DAYLIGHT
TZOFFSETFROM:+0100
TZOFFSETTO:+0200
TZNAME:CEST
DTSTART:20240331T010000
END:DAYLIGHT
BEGIN:STANDARD
TZOFFSETFROM:+0200
TZOFFSETTO:+0100
TZNAME:CET
DTSTART:20241027T010000
END:STANDARD
BEGIN:DAYLIGHT
TZOFFSETFROM:+0100
TZOFFSETTO:+0200
TZNAME:CEST
DTSTART:20250330T010000
END:DAYLIGHT
BEGIN:STANDARD
TZOFFSETFROM:+0200
TZOFFSETTO:+0100
TZNAME:CET
DTSTART:20251026T010000
END:STANDARD
BEGIN:DAYLIGHT
TZOFFSETFROM:+0100
TZOFFSETTO:+0200
TZNAME:CEST
DTSTART:20260329T010000
END:DAYLIGHT
BEGIN:STANDARD
TZOFFSETFROM:+0200
TZOFFSETTO:+0100
TZNAME:CET
DTSTART:20261025T010000
END:STANDARD
END:VTIMEZONE
BEGIN:VEVENT
DTSTART;TZID=Europe/Paris:20251031T200000
DTEND;TZID=Europe/Paris:20251031T220000
DTSTAMP:20260423T102822
CREATED:20251006T094034Z
LAST-MODIFIED:20251029T105553Z
UID:19979-1761940800-1761948000@www.servon.fr
SUMMARY:Murder party Enquête en Famille
DESCRIPTION:Après le succès de la 1ère édition de la Murder Party\, ne manquez pas cette\nnouvelle soirée immersive à Servon. Venez passez Halloween en compagnie de nos\nhôtes dans l’univers des romans policiers et résoudre une enquête particulièrement\ntroublante… nous avons besoin de vous !\nDRESS CODE conseillé : années 1900\nTarifs :\n10€ + de 18 ans\n5€ – de 18 ans \nRéservation :\nhttps://www.oandb.fr/fr/event/murder-party-halloween-enquete-en-famille \n 
URL:https://www.servon.fr/agenda/murder-party-enquete-en-famille/
LOCATION:Mairie\, 15 rue de la Poste\, Servon\, 77170\, France
CATEGORIES:théâtre immersif
ATTACH;FMTTYPE=image/jpeg:https://www.servon.fr/wp-content/uploads/2025/10/affiche.jpg
ORGANIZER;CN="Mairie":MAILTO:accueil@servon.fr
END:VEVENT
END:VCALENDAR