BEGIN:VCALENDAR
VERSION:2.0
PRODID:-//Servon - ECPv6.15.20//NONSGML v1.0//EN
CALSCALE:GREGORIAN
METHOD:PUBLISH
X-ORIGINAL-URL:https://www.servon.fr
X-WR-CALDESC:Évènements pour Servon
REFRESH-INTERVAL;VALUE=DURATION:PT1H
X-Robots-Tag:noindex
X-PUBLISHED-TTL:PT1H
BEGIN:VTIMEZONE
TZID:Europe/Paris
BEGIN:DAYLIGHT
TZOFFSETFROM:+0100
TZOFFSETTO:+0200
TZNAME:CEST
DTSTART:20240331T010000
END:DAYLIGHT
BEGIN:STANDARD
TZOFFSETFROM:+0200
TZOFFSETTO:+0100
TZNAME:CET
DTSTART:20241027T010000
END:STANDARD
BEGIN:DAYLIGHT
TZOFFSETFROM:+0100
TZOFFSETTO:+0200
TZNAME:CEST
DTSTART:20250330T010000
END:DAYLIGHT
BEGIN:STANDARD
TZOFFSETFROM:+0200
TZOFFSETTO:+0100
TZNAME:CET
DTSTART:20251026T010000
END:STANDARD
BEGIN:DAYLIGHT
TZOFFSETFROM:+0100
TZOFFSETTO:+0200
TZNAME:CEST
DTSTART:20260329T010000
END:DAYLIGHT
BEGIN:STANDARD
TZOFFSETFROM:+0200
TZOFFSETTO:+0100
TZNAME:CET
DTSTART:20261025T010000
END:STANDARD
END:VTIMEZONE
BEGIN:VEVENT
DTSTART;TZID=Europe/Paris:20250503T183000
DTEND;TZID=Europe/Paris:20250503T233000
DTSTAMP:20260423T200142
CREATED:20250422T090900Z
LAST-MODIFIED:20250422T090900Z
UID:19076-1746297000-1746315000@www.servon.fr
SUMMARY:Loto Football Club de Servon
DESCRIPTION:
URL:https://www.servon.fr/agenda/loto-football-club-de-servon/
LOCATION:Salle Roger Coudert\, 15 rue de la Poste\, Servon\, 77170
CATEGORIES:Loto
ATTACH;FMTTYPE=image/jpeg:https://www.servon.fr/wp-content/uploads/2025/04/LOTO-2025.jpg
ORGANIZER;CN="FC Servon":MAILTO:servonfc@gmail.com
END:VEVENT
END:VCALENDAR