BEGIN:VCALENDAR
VERSION:2.0
PRODID:-//Servon - ECPv6.15.20//NONSGML v1.0//EN
CALSCALE:GREGORIAN
METHOD:PUBLISH
X-WR-CALNAME:Servon
X-ORIGINAL-URL:https://www.servon.fr
X-WR-CALDESC:Évènements pour Servon
REFRESH-INTERVAL;VALUE=DURATION:PT1H
X-Robots-Tag:noindex
X-PUBLISHED-TTL:PT1H
BEGIN:VTIMEZONE
TZID:Europe/Paris
BEGIN:DAYLIGHT
TZOFFSETFROM:+0100
TZOFFSETTO:+0200
TZNAME:CEST
DTSTART:20230326T010000
END:DAYLIGHT
BEGIN:STANDARD
TZOFFSETFROM:+0200
TZOFFSETTO:+0100
TZNAME:CET
DTSTART:20231029T010000
END:STANDARD
BEGIN:DAYLIGHT
TZOFFSETFROM:+0100
TZOFFSETTO:+0200
TZNAME:CEST
DTSTART:20240331T010000
END:DAYLIGHT
BEGIN:STANDARD
TZOFFSETFROM:+0200
TZOFFSETTO:+0100
TZNAME:CET
DTSTART:20241027T010000
END:STANDARD
BEGIN:DAYLIGHT
TZOFFSETFROM:+0100
TZOFFSETTO:+0200
TZNAME:CEST
DTSTART:20250330T010000
END:DAYLIGHT
BEGIN:STANDARD
TZOFFSETFROM:+0200
TZOFFSETTO:+0100
TZNAME:CET
DTSTART:20251026T010000
END:STANDARD
END:VTIMEZONE
BEGIN:VEVENT
DTSTART;TZID=Europe/Paris:20240302T183000
DTEND;TZID=Europe/Paris:20240302T183000
DTSTAMP:20260423T132520
CREATED:20240126T143029Z
LAST-MODIFIED:20240126T143731Z
UID:12937-1709404200-1709404200@www.servon.fr
SUMMARY:Loto du Contacts Servonnais
DESCRIPTION:Réservations au 06.75.95.58.98\nBuvette sur place ; Boissons\, Sandwichs… \nTarifs : 1 carton : 5 Euros\, les 6 : 25 Euros\, les 12 : 40 Euros
URL:https://www.servon.fr/agenda/loto-du-contacts-servonnais/
LOCATION:Salle Roger Coudert\, 15 rue de la Poste\, Servon\, 77170
CATEGORIES:Loto
ATTACH;FMTTYPE=image/png:https://www.servon.fr/wp-content/uploads/2024/01/Affiche-Loto-Mars-2024.png
END:VEVENT
END:VCALENDAR