BEGIN:VCALENDAR
VERSION:2.0
PRODID:-//Servon - ECPv6.15.20//NONSGML v1.0//EN
CALSCALE:GREGORIAN
METHOD:PUBLISH
X-ORIGINAL-URL:https://www.servon.fr
X-WR-CALDESC:Évènements pour Servon
REFRESH-INTERVAL;VALUE=DURATION:PT1H
X-Robots-Tag:noindex
X-PUBLISHED-TTL:PT1H
BEGIN:VTIMEZONE
TZID:Europe/Paris
BEGIN:DAYLIGHT
TZOFFSETFROM:+0100
TZOFFSETTO:+0200
TZNAME:CEST
DTSTART:20240331T010000
END:DAYLIGHT
BEGIN:STANDARD
TZOFFSETFROM:+0200
TZOFFSETTO:+0100
TZNAME:CET
DTSTART:20241027T010000
END:STANDARD
BEGIN:DAYLIGHT
TZOFFSETFROM:+0100
TZOFFSETTO:+0200
TZNAME:CEST
DTSTART:20250330T010000
END:DAYLIGHT
BEGIN:STANDARD
TZOFFSETFROM:+0200
TZOFFSETTO:+0100
TZNAME:CET
DTSTART:20251026T010000
END:STANDARD
BEGIN:DAYLIGHT
TZOFFSETFROM:+0100
TZOFFSETTO:+0200
TZNAME:CEST
DTSTART:20260329T010000
END:DAYLIGHT
BEGIN:STANDARD
TZOFFSETFROM:+0200
TZOFFSETTO:+0100
TZNAME:CET
DTSTART:20261025T010000
END:STANDARD
END:VTIMEZONE
BEGIN:VEVENT
DTSTART;TZID=Europe/Paris:20250906T090000
DTEND;TZID=Europe/Paris:20250906T160000
DTSTAMP:20260423T120059
CREATED:20250717T135712Z
LAST-MODIFIED:20250717T135712Z
UID:19773-1757149200-1757174400@www.servon.fr
SUMMARY:Forum des Associations 2025
DESCRIPTION: \n\n\n\nSamedi 6 septembre\, Servon fait sa rentrée !\nVenez rencontrer les nombreuses associations Servonnaises à l’occasion du forum des associations organisé dans la cour de l’Orme derrière la mairie.\n \nEnvie de faire du sport\, d’essayer une activité culturelle ou de loisir ?\nVenez prendre toutes les informations directement auprès des associations !
URL:https://www.servon.fr/agenda/forum-des-associations-2025/
LOCATION:cour de l’orme\, 15 rue de la poste\, servon\, 77170\, France
CATEGORIES:associatif
ATTACH;FMTTYPE=image/jpeg:https://www.servon.fr/wp-content/uploads/2025/07/affiche-1.jpg
ORGANIZER;CN="Mairie":MAILTO:accueil@servon.fr
END:VEVENT
BEGIN:VEVENT
DTSTART;TZID=Europe/Paris:20250914T160000
DTEND;TZID=Europe/Paris:20250914T190000
DTSTAMP:20260423T120059
CREATED:20250904T083132Z
LAST-MODIFIED:20250904T083216Z
UID:19881-1757865600-1757876400@www.servon.fr
SUMMARY:Les Brigands Opéra
DESCRIPTION:
URL:https://www.servon.fr/agenda/19881/
LOCATION:Salle Roger Coudert\, 15 rue de la Poste\, Servon\, 77170
CATEGORIES:associatif,Opérette
ATTACH;FMTTYPE=image/jpeg:https://www.servon.fr/wp-content/uploads/2025/09/24b515e0-a005-42ae-afec-5f370566fab7.jpeg
END:VEVENT
END:VCALENDAR