BEGIN:VCALENDAR
VERSION:2.0
PRODID:-//Servon - ECPv6.15.20//NONSGML v1.0//EN
CALSCALE:GREGORIAN
METHOD:PUBLISH
X-WR-CALNAME:Servon
X-ORIGINAL-URL:https://www.servon.fr
X-WR-CALDESC:Évènements pour Servon
REFRESH-INTERVAL;VALUE=DURATION:PT1H
X-Robots-Tag:noindex
X-PUBLISHED-TTL:PT1H
BEGIN:VTIMEZONE
TZID:Europe/Paris
BEGIN:DAYLIGHT
TZOFFSETFROM:+0100
TZOFFSETTO:+0200
TZNAME:CEST
DTSTART:20210328T010000
END:DAYLIGHT
BEGIN:STANDARD
TZOFFSETFROM:+0200
TZOFFSETTO:+0100
TZNAME:CET
DTSTART:20211031T010000
END:STANDARD
BEGIN:DAYLIGHT
TZOFFSETFROM:+0100
TZOFFSETTO:+0200
TZNAME:CEST
DTSTART:20220327T010000
END:DAYLIGHT
BEGIN:STANDARD
TZOFFSETFROM:+0200
TZOFFSETTO:+0100
TZNAME:CET
DTSTART:20221030T010000
END:STANDARD
BEGIN:DAYLIGHT
TZOFFSETFROM:+0100
TZOFFSETTO:+0200
TZNAME:CEST
DTSTART:20230326T010000
END:DAYLIGHT
BEGIN:STANDARD
TZOFFSETFROM:+0200
TZOFFSETTO:+0100
TZNAME:CET
DTSTART:20231029T010000
END:STANDARD
END:VTIMEZONE
BEGIN:VEVENT
DTSTART;VALUE=DATE:20221105
DTEND;VALUE=DATE:20221127
DTSTAMP:20260423T115441
CREATED:20221024T092348Z
LAST-MODIFIED:20221031T141412Z
UID:7821-1667606400-1669507199@www.servon.fr
SUMMARY:Exposition Photos "Ouverture sur le monde"
DESCRIPTION:Le Photo Club Servon 77 expose ses très grand formats à la médiathèque de Brie-Comte-Robert au heures d’ouverture. \nhttps://www.briecomterobert.fr/Brie-Scope/Vie-culturelle/La-Mediatheque-L-Ile-aux-Tresors
URL:https://www.servon.fr/agenda/exposition-photos-ouverture-sur-le-monde/
LOCATION:Médiathèque L’Île aux Trésors\, Place des Déportés\, Brie-Comte-Robert\, 77255\, France
CATEGORIES:associatif
ATTACH;FMTTYPE=image/jpeg:https://www.servon.fr/wp-content/uploads/2022/10/Affiche-A3.jpg
ORGANIZER;CN="Photo Club Servon77":MAILTO:photoclubservon77@orange.fr
END:VEVENT
BEGIN:VEVENT
DTSTART;TZID=Europe/Paris:20221119T110000
DTEND;TZID=Europe/Paris:20221119T120000
DTSTAMP:20260423T115441
CREATED:20221110T085219Z
LAST-MODIFIED:20221110T085219Z
UID:7965-1668855600-1668859200@www.servon.fr
SUMMARY:Café des signes
DESCRIPTION:Suite à la formation suivie par certaines Assistantes Maternelles du RPE intercommunal (Servon\, Chevry\, Férolles) initiation et approfondissement de La Langue des Signes.\nCelles-ci organisent un Café des Signes le samedi 19 novembre 2022 à 11h 00. Ci-joint affiche avec le lieu.\nCet événement a pour but : de partager\, d’échanger\, avec des personnes sachant signées ou non\, cet atelier est entièrement gratuit. (Partager ce mail avec vos parents employeurs)\nNous vous attendons nombreux et nombreuses afin de passer un moment convivial et ludique.\nLes Assistantes Maternelles de l’intercommunalité et avec la collaboration de la Responsable du Relais Petite Enfance.
URL:https://www.servon.fr/agenda/cafe-des-signes/
LOCATION:Salle 1 de la médiathèque de Chevry-Cosigny\, 9 Rue Jean Delsol\, Chevry-Cosigny\, 77173\, France
CATEGORIES:associatif
ATTACH;FMTTYPE=image/png:https://www.servon.fr/wp-content/uploads/2022/11/Affiche-cafe-des-signes1.png
END:VEVENT
BEGIN:VEVENT
DTSTART;TZID=Europe/Paris:20221119T190000
DTEND;TZID=Europe/Paris:20221119T233000
DTSTAMP:20260423T115441
CREATED:20221013T094011Z
LAST-MODIFIED:20221013T094017Z
UID:7694-1668884400-1668900600@www.servon.fr
SUMMARY:Scène Ouverte
DESCRIPTION:INSCRIPTION SCENE OUVERTE 2022
URL:https://www.servon.fr/agenda/scene-ouverte-2/
LOCATION:Joie du Partage\, 15 rue de la Poste\, Servon\, 77170\, France
CATEGORIES:associatif
ATTACH;FMTTYPE=image/jpeg:https://www.servon.fr/wp-content/uploads/2022/10/AFFICHE-SCENE-OUVERTE-2022.jpg
END:VEVENT
BEGIN:VEVENT
DTSTART;TZID=Europe/Paris:20221126T180000
DTEND;TZID=Europe/Paris:20221126T233000
DTSTAMP:20260423T115441
CREATED:20221004T075613Z
LAST-MODIFIED:20221004T075613Z
UID:7662-1669485600-1669505400@www.servon.fr
SUMMARY:Loto
DESCRIPTION:Le FC Servon a le plaisir de vous retrouver le samedi 26 novembre 2022 dans la salle Roger Coudert pour son traditionnel loto. \n\nOuverture des portes à 18h.\nBuffet et buvette.\nTombola\n\nVenez nombreux ! \nRéservation : 06.84.93.74.27
URL:https://www.servon.fr/agenda/loto-3/
LOCATION:Salle Roger Coudert\, 15 rue de la Poste\, Servon\, 77170
CATEGORIES:associatif
ATTACH;FMTTYPE=image/jpeg:https://www.servon.fr/wp-content/uploads/2022/10/309319115_567253198487221_5277289221636167432_n.jpg
ORGANIZER;CN="FC Servon":MAILTO:servonfc@gmail.com
END:VEVENT
END:VCALENDAR