BEGIN:VCALENDAR
VERSION:2.0
PRODID:-//Servon - ECPv6.15.20//NONSGML v1.0//EN
CALSCALE:GREGORIAN
METHOD:PUBLISH
X-WR-CALNAME:Servon
X-ORIGINAL-URL:https://www.servon.fr
X-WR-CALDESC:Évènements pour Servon
REFRESH-INTERVAL;VALUE=DURATION:PT1H
X-Robots-Tag:noindex
X-PUBLISHED-TTL:PT1H
BEGIN:VTIMEZONE
TZID:Europe/Paris
BEGIN:DAYLIGHT
TZOFFSETFROM:+0100
TZOFFSETTO:+0200
TZNAME:CEST
DTSTART:20210328T010000
END:DAYLIGHT
BEGIN:STANDARD
TZOFFSETFROM:+0200
TZOFFSETTO:+0100
TZNAME:CET
DTSTART:20211031T010000
END:STANDARD
BEGIN:DAYLIGHT
TZOFFSETFROM:+0100
TZOFFSETTO:+0200
TZNAME:CEST
DTSTART:20220327T010000
END:DAYLIGHT
BEGIN:STANDARD
TZOFFSETFROM:+0200
TZOFFSETTO:+0100
TZNAME:CET
DTSTART:20221030T010000
END:STANDARD
BEGIN:DAYLIGHT
TZOFFSETFROM:+0100
TZOFFSETTO:+0200
TZNAME:CEST
DTSTART:20230326T010000
END:DAYLIGHT
BEGIN:STANDARD
TZOFFSETFROM:+0200
TZOFFSETTO:+0100
TZNAME:CET
DTSTART:20231029T010000
END:STANDARD
END:VTIMEZONE
BEGIN:VEVENT
DTSTART;VALUE=DATE:20220702
DTEND;VALUE=DATE:20220703
DTSTAMP:20260423T182706
CREATED:20220613T135836Z
LAST-MODIFIED:20220613T135921Z
UID:7222-1656720000-1656806399@www.servon.fr
SUMMARY:Cross des écoliers de Servon
DESCRIPTION:Le CROSS des Écoliers de Servon se déroulera cette année le samedi 02 Juillet 2022 au Parc Dominique\nStabile de Servon. \nAfin d’organiser cet évènement dans les meilleures conditions\, nous avons toujours besoin de bénévoles\n(parents\, étudiants\, grands-parents\, oncles\, tantes\, enseignants\, animateurs …). Pour le bon déroulement de\ncette manifestation et la sécurité de vos enfants\, nous avons besoin de vous ! \nInscription avant le 17 juin 2022\nBULLETIN_INSCRIPTION_CROSS_2022
URL:https://www.servon.fr/agenda/cross-des-ecoliers-de-servon/
LOCATION:Parc des sports Dominique Stabile\, Servon\, 77170
CATEGORIES:associatif,mairie
ATTACH;FMTTYPE=image/jpeg:https://www.servon.fr/wp-content/uploads/2022/06/DSC_1264.jpg
ORGANIZER;CN="CIPES":MAILTO:cipes77@gmail.com
END:VEVENT
BEGIN:VEVENT
DTSTART;TZID=Europe/Paris:20220702T143000
DTEND;TZID=Europe/Paris:20220702T143000
DTSTAMP:20260423T182706
CREATED:20220525T150627Z
LAST-MODIFIED:20220613T092820Z
UID:7052-1656772200-1656772200@www.servon.fr
SUMMARY:Journée porte ouverte 100% Foot féminin
DESCRIPTION:Le FC SERVON organise le 2 juillet à partir de 14h30 une après-midi 100% foot féminin. Toute la gent féminine pourra participer à des ateliers ludiques et des moments festifs. A partir de 6 ans et sans limite d’âge au parc des sports Dominique Stabile. \nInformations et inscriptions auprès de Laetitia \ntiboun94@gmail.com ou 06.15.33.35.01
URL:https://www.servon.fr/agenda/journee-porte-ouvert-100-foot-feminin/
LOCATION:Parc des sports Dominique Stabile\, Servon\, 77170
CATEGORIES:associatif
ATTACH;FMTTYPE=image/jpeg:https://www.servon.fr/wp-content/uploads/2022/05/team-sport-472909_1920.jpg
ORGANIZER;CN="FC Servon":MAILTO:servonfc@gmail.com
END:VEVENT
BEGIN:VEVENT
DTSTART;TZID=Europe/Paris:20220702T224500
DTEND;TZID=Europe/Paris:20220702T233000
DTSTAMP:20260423T182706
CREATED:20220627T080404Z
LAST-MODIFIED:20220627T080404Z
UID:7252-1656801900-1656804600@www.servon.fr
SUMMARY:Enquête de Haut Vol
DESCRIPTION:
URL:https://www.servon.fr/agenda/enquete-de-haut-vol/
LOCATION:Salle Roger Coudert\, 15 rue de la Poste\, Servon\, 77170
CATEGORIES:associatif
ATTACH;FMTTYPE=image/png:https://www.servon.fr/wp-content/uploads/2022/06/Capture-decran-2022-06-27-100308.png
END:VEVENT
END:VCALENDAR