BEGIN:VCALENDAR
VERSION:2.0
PRODID:-//Servon - ECPv6.15.20//NONSGML v1.0//EN
CALSCALE:GREGORIAN
METHOD:PUBLISH
X-ORIGINAL-URL:https://www.servon.fr
X-WR-CALDESC:Évènements pour Servon
REFRESH-INTERVAL;VALUE=DURATION:PT1H
X-Robots-Tag:noindex
X-PUBLISHED-TTL:PT1H
BEGIN:VTIMEZONE
TZID:Europe/Paris
BEGIN:DAYLIGHT
TZOFFSETFROM:+0100
TZOFFSETTO:+0200
TZNAME:CEST
DTSTART:20210328T010000
END:DAYLIGHT
BEGIN:STANDARD
TZOFFSETFROM:+0200
TZOFFSETTO:+0100
TZNAME:CET
DTSTART:20211031T010000
END:STANDARD
BEGIN:DAYLIGHT
TZOFFSETFROM:+0100
TZOFFSETTO:+0200
TZNAME:CEST
DTSTART:20220327T010000
END:DAYLIGHT
BEGIN:STANDARD
TZOFFSETFROM:+0200
TZOFFSETTO:+0100
TZNAME:CET
DTSTART:20221030T010000
END:STANDARD
BEGIN:DAYLIGHT
TZOFFSETFROM:+0100
TZOFFSETTO:+0200
TZNAME:CEST
DTSTART:20230326T010000
END:DAYLIGHT
BEGIN:STANDARD
TZOFFSETFROM:+0200
TZOFFSETTO:+0100
TZNAME:CET
DTSTART:20231029T010000
END:STANDARD
END:VTIMEZONE
BEGIN:VEVENT
DTSTART;TZID=Europe/Paris:20220603T203000
DTEND;TZID=Europe/Paris:20220603T203000
DTSTAMP:20260423T200323
CREATED:20220525T143359Z
LAST-MODIFIED:20220525T143359Z
UID:7047-1654288200-1654288200@www.servon.fr
SUMMARY:Fête du Roller
DESCRIPTION:Entrée Libre
URL:https://www.servon.fr/agenda/fete-du-roller/
LOCATION:Salle Roger Coudert\, 15 rue de la Poste\, Servon\, 77170
CATEGORIES:associatif
ATTACH;FMTTYPE=image/png:https://www.servon.fr/wp-content/uploads/2022/05/Capture-decran-2022-05-25-163336.png
END:VEVENT
BEGIN:VEVENT
DTSTART;TZID=Europe/Paris:20220605T160000
DTEND;TZID=Europe/Paris:20220605T160000
DTSTAMP:20260423T200323
CREATED:20220525T142912Z
LAST-MODIFIED:20220525T143520Z
UID:7044-1654444800-1654444800@www.servon.fr
SUMMARY:Spectacle de fin d'année du CLAS
DESCRIPTION:Entrée libre
URL:https://www.servon.fr/agenda/spectacle-de-fin-dannee-du-clas/
LOCATION:Salle Roger Coudert\, 15 rue de la Poste\, Servon\, 77170
CATEGORIES:associatif
ATTACH;FMTTYPE=image/png:https://www.servon.fr/wp-content/uploads/2022/05/Capture-decran-2022-05-25-162658.png
END:VEVENT
BEGIN:VEVENT
DTSTART;TZID=Europe/Paris:20220619T160000
DTEND;TZID=Europe/Paris:20220619T170000
DTSTAMP:20260423T200323
CREATED:20220610T101428Z
LAST-MODIFIED:20220610T101428Z
UID:7211-1655654400-1655658000@www.servon.fr
SUMMARY:Concert de l'école de musique
DESCRIPTION:
URL:https://www.servon.fr/agenda/concert-de-lecole-de-musique/
CATEGORIES:associatif
ATTACH;FMTTYPE=image/png:https://www.servon.fr/wp-content/uploads/2022/06/Capture-decran-2022-06-10-121009.png
END:VEVENT
BEGIN:VEVENT
DTSTART;TZID=Europe/Paris:20220626T110000
DTEND;TZID=Europe/Paris:20220626T160000
DTSTAMP:20260423T200323
CREATED:20220601T134848Z
LAST-MODIFIED:20220601T134848Z
UID:7068-1656241200-1656259200@www.servon.fr
SUMMARY:Fête de l'école
DESCRIPTION:
URL:https://www.servon.fr/agenda/fete-de-lecole/
CATEGORIES:associatif
ATTACH;FMTTYPE=image/png:https://www.servon.fr/wp-content/uploads/2022/06/Capture-decran-2022-06-01-154827.png
ORGANIZER;CN="FCPE":MAILTO:fcpeservon77@gmail.com
END:VEVENT
END:VCALENDAR